BEGIN:VCALENDAR
VERSION:2.0
PRODID:-//CAI Malnate - ECPv6.15.19//NONSGML v1.0//EN
CALSCALE:GREGORIAN
METHOD:PUBLISH
X-ORIGINAL-URL:https://caimalnate.it
X-WR-CALDESC:Eventi per CAI Malnate
REFRESH-INTERVAL;VALUE=DURATION:PT1H
X-Robots-Tag:noindex
X-PUBLISHED-TTL:PT1H
BEGIN:VTIMEZONE
TZID:Europe/Paris
BEGIN:DAYLIGHT
TZOFFSETFROM:+0100
TZOFFSETTO:+0200
TZNAME:CEST
DTSTART:20250330T010000
END:DAYLIGHT
BEGIN:STANDARD
TZOFFSETFROM:+0200
TZOFFSETTO:+0100
TZNAME:CET
DTSTART:20251026T010000
END:STANDARD
BEGIN:DAYLIGHT
TZOFFSETFROM:+0100
TZOFFSETTO:+0200
TZNAME:CEST
DTSTART:20260329T010000
END:DAYLIGHT
BEGIN:STANDARD
TZOFFSETFROM:+0200
TZOFFSETTO:+0100
TZNAME:CET
DTSTART:20261025T010000
END:STANDARD
BEGIN:DAYLIGHT
TZOFFSETFROM:+0100
TZOFFSETTO:+0200
TZNAME:CEST
DTSTART:20270328T010000
END:DAYLIGHT
BEGIN:STANDARD
TZOFFSETFROM:+0200
TZOFFSETTO:+0100
TZNAME:CET
DTSTART:20271031T010000
END:STANDARD
END:VTIMEZONE
BEGIN:VEVENT
DTSTART;VALUE=DATE:20260501
DTEND;VALUE=DATE:20260504
DTSTAMP:20260422T113213
CREATED:20260320T082828Z
LAST-MODIFIED:20260320T083638Z
UID:2105-1777593600-1777852799@caimalnate.it
SUMMARY:GTE - Grande traversata Elbana dal 1 al 3 maggio 2026
DESCRIPTION:3 tappe da Cavo a Pomonte 55 km e dislivello D+ 2350 m\n-oppure 2550 m se si raggiunge la cima del monte Capanne- \nPer tutte le informazioni\, consultare la locandina allegata \nLocandina GTE\nGalleria fotografica
URL:https://caimalnate.it/evento/gte-grande-traversata-elbana-dal-1-al-3-maggio-2026/
ATTACH;FMTTYPE=image/jpeg:https://caimalnate.it/wp-content/uploads/2026/03/Elba_GTE_20120416_051-scaled.jpg
ORGANIZER;CN="CAI Sezione di Malnate":MAILTO:info@caimalnate.it
END:VEVENT
END:VCALENDAR