BEGIN:VCALENDAR
VERSION:2.0
PRODID:-//CAI Malnate - ECPv6.15.19//NONSGML v1.0//EN
CALSCALE:GREGORIAN
METHOD:PUBLISH
X-WR-CALNAME:CAI Malnate
X-ORIGINAL-URL:https://caimalnate.it
X-WR-CALDESC:Eventi per CAI Malnate
REFRESH-INTERVAL;VALUE=DURATION:PT1H
X-Robots-Tag:noindex
X-PUBLISHED-TTL:PT1H
BEGIN:VTIMEZONE
TZID:UTC
BEGIN:STANDARD
TZOFFSETFROM:+0000
TZOFFSETTO:+0000
TZNAME:UTC
DTSTART:20240101T000000
END:STANDARD
END:VTIMEZONE
BEGIN:VEVENT
DTSTART;TZID=UTC:20250510T150000
DTEND;TZID=UTC:20250510T183000
DTSTAMP:20260422T235925
CREATED:20250416T125749Z
LAST-MODIFIED:20250416T125749Z
UID:1452-1746889200-1746901800@caimalnate.it
SUMMARY:Evento "Plant Crossing"
DESCRIPTION:Sabato 10 maggio 2025 dalle 15 alle 18.30 la sezione CAI Malnate ospiterà nella propria sede l’ evento “Plant Crossing”\norganizzato da Le Buon&Pratiche che potete seguire su Instagram e Facebook \n\nhttps://www.instagram.com/lebuonepratiche/\nhttps://www.facebook.com/lebuonepratichemalnate/\n\nIl programma dell’evento: \n\nscambio dl talee\, bulbi\, semi\nscopri i secreti del parco e i suoi alberi con le G.E.V.\nlaboratorio per bambini: le bombe dl semi!\nscopri la biblioteca botanica a cura delle G.E.V.\nil nuovo libro lebuon&pratiche “I rimedi naturali per curare le piante”\nmerenda floreale\n\nIn caso di pioggia l’evento sarà all’interno della sede CAI.
URL:https://caimalnate.it/evento/evento-plant-crossing/
LOCATION:Sede Sezione CAI Malnate\, Via Capri\, 3\, Malnate\, 21046\, Italy
CATEGORIES:Attività culturali
ORGANIZER;CN="CAI Sezione di Malnate":MAILTO:info@caimalnate.it
END:VEVENT
BEGIN:VEVENT
DTSTART;TZID=UTC:20250514T210000
DTEND;TZID=UTC:20250514T230000
DTSTAMP:20260422T235925
CREATED:20250317T132158Z
LAST-MODIFIED:20250505T062532Z
UID:1394-1747256400-1747263600@caimalnate.it
SUMMARY:Presentazione libro fotografico "Monte Rosa" di Carlo Meazza
DESCRIPTION:Il giorno mercoledì 14 Maggio alle ore 21 presso la Sede del CAI di Malnate\, si terrà gratuitamente la presentazione video con foto e commenti del nuovo libro di Carlo Meazza intitolato “MONTE ROSA” pubblicato da Pubblinova Edizioni Negri\, Varese\, 2024. \nSeguirà un’incontro con l’autore \nPrincipali caratteristiche tecniche: \n\nformato: cm 30 x 30;\nnum. pagine: 264;\nnum. foto: circa 200 a col. e in b/n;\ncarta testo: patinata opaca da 170 g/mq;\nedizione bilingue: italiano/inglese;\nconfezione: cartonato plastificato\, sovraccoperta a 4 col. plastificata.\n\nPrezzo di copertina: euro 45\,00 \nIl libro:\nIl progetto di pubblicare un libro fotografico sul Monte Rosa è nato da un’idea di Carlo Meazza.\nAbbiamo sviluppato il progetto avvalendoci della collaborazione del Prof. Enrico Rizzi\, il quale ci propone un sunto dei suoi studi sulla comunità Walser presente nelle valli del Rosa; di Barbara Zanzi\, in qualità di promotrice di iniziative a sostegno della cultura di montagna; del giornalista Teresio Valsesia\, che ci illustra i cambiamenti idrogeologici intervenuti negli ultimi decenni\, anche a causa delle differenti condizioni climatiche\, soprattutto sulla parete Est del Rosa; della scrittrice Marzia Verona\, la quale ci parla del ritorno alla montagna e ad attività legate all’allevamento e alla coltivazione della terra.\nNell’opera sono stati riprodotti un testo inedito del compianto Prof. Luigi Zanzi\, incentrato sulla carenza di studi storico-scientifici riguardanti il Monte Rosa\, e una quindicina di testimonianze di montanari e alpinisti sul vivere la montagna.\nLa prefazione è stata scritta dalla scrittrice Marta Morazzoni. \nL’Autore:\nCarlo Meazza\, fotografo professionista dal 1972\, ha realizzato circa novanta libri\, che spaziano dalla fotografia di paesaggio al reportage fotografico. Per rammentare i più recenti\, con Pubblinova Edizioni Negri ha pubblicato Paesaggi della Resistenza nei romanzi di Calvino\, Fenoglio e Meneghello; Lombardia – I siti Unesco: patrimonio dell’Umanità; Remènch – Transumanza in Lombardia; Il Campanile – Pietre\, uomini e storie: viaggio nel restauro del Bernascone e Dante Isella – Luoghi e autori di una vita; Passi e ospizi alpini nei secoli. Vive a Varese. \nScarica la locandina\n» Leggi la scheda di presentazione del libro
URL:https://caimalnate.it/evento/presentazione-libro-fotografico-monte-rosa-di-carlo-meazza/
LOCATION:Sede Sezione CAI Malnate\, Via Capri\, 3\, Malnate\, 21046\, Italy
CATEGORIES:Attività culturali
ATTACH;FMTTYPE=image/png:https://caimalnate.it/wp-content/uploads/2025/03/monte-rosa.png
ORGANIZER;CN="CAI Sezione di Malnate":MAILTO:info@caimalnate.it
END:VEVENT
END:VCALENDAR