BEGIN:VCALENDAR
VERSION:2.0
PRODID:-//CAI Malnate - ECPv6.15.19//NONSGML v1.0//EN
CALSCALE:GREGORIAN
METHOD:PUBLISH
X-ORIGINAL-URL:https://caimalnate.it
X-WR-CALDESC:Eventi per CAI Malnate
REFRESH-INTERVAL;VALUE=DURATION:PT1H
X-Robots-Tag:noindex
X-PUBLISHED-TTL:PT1H
BEGIN:VTIMEZONE
TZID:UTC
BEGIN:STANDARD
TZOFFSETFROM:+0000
TZOFFSETTO:+0000
TZNAME:UTC
DTSTART:20240101T000000
END:STANDARD
END:VTIMEZONE
BEGIN:VEVENT
DTSTART;TZID=UTC:20250928T140000
DTEND;TZID=UTC:20250928T180000
DTSTAMP:20260422T170638
CREATED:20250925T094247Z
LAST-MODIFIED:20250925T112124Z
UID:1710-1759068000-1759082400@caimalnate.it
SUMMARY:Festa cittadina 2025: “Malnate in fantasia”
DESCRIPTION:Avvisiamo che il CAI sezione di Malnate sarà presente alla festa cittadina “Malnate in fantasia” che si terrà Domenica 28 Settembre 2025 in Via J.F. Kennedy. \nDi seguito il programma delle attività che proporremo: \nOre 14:00\nVideo introduttivo istituzionale CAI \nOre 14:30\nPresentazione Sito Web – Perché iscriversi al CAI – Perché iscriversi ai corsi \nOre 15:00\nProiezione Filmato Corso Alpinismo\nNodi Di Base d’uso In Alpinismo E Moschettoni\, Tavolo Con I Nodi\, Realizzare Una Corda Fissa Di Sicurezza \nOre 15:30\nMateriale Informativo Corsi Ed Escursioni (Locandine Corsi\, Storia Cai E Scuola)\, Biblioteca Sezionale “Attilio Farè” \nOre 16:00\nSeconda Proiezione Filmato Corso Alpinismo \nOre 16:30\nDisegno Montagne Per Bambini + Giochi Interattivi \nOre 17:00\nProiezione Filmato Corso Ferrate\nAttività Di Equilibrio E Propriocezione \n\nBalace Board\nBlocchetti Per L’equilibrio\nSlack Line\n\nOre 17:30\nTopografia Ed Orientamento\, Uso Della Bussola E Della Cartina \nOre 18:00\nChiusura \nAttività Presidiata Continua: Arrampicata Sul Pannello Per Bambini
URL:https://caimalnate.it/evento/festa-cittadina-2025-malnate-in-fantasia-domenica-28-settembre-2025/
CATEGORIES:Attività culturali
ATTACH;FMTTYPE=image/jpeg:https://caimalnate.it/wp-content/uploads/2025/09/MALNATE-IN-FANTASIA-2025.jpg
END:VEVENT
END:VCALENDAR