BEGIN:VCALENDAR
VERSION:2.0
PRODID:-//CAI Malnate - ECPv6.15.19//NONSGML v1.0//EN
CALSCALE:GREGORIAN
METHOD:PUBLISH
X-WR-CALNAME:CAI Malnate
X-ORIGINAL-URL:https://caimalnate.it
X-WR-CALDESC:Eventi per CAI Malnate
REFRESH-INTERVAL;VALUE=DURATION:PT1H
X-Robots-Tag:noindex
X-PUBLISHED-TTL:PT1H
BEGIN:VTIMEZONE
TZID:Europe/Paris
BEGIN:DAYLIGHT
TZOFFSETFROM:+0100
TZOFFSETTO:+0200
TZNAME:CEST
DTSTART:20250330T010000
END:DAYLIGHT
BEGIN:STANDARD
TZOFFSETFROM:+0200
TZOFFSETTO:+0100
TZNAME:CET
DTSTART:20251026T010000
END:STANDARD
BEGIN:DAYLIGHT
TZOFFSETFROM:+0100
TZOFFSETTO:+0200
TZNAME:CEST
DTSTART:20260329T010000
END:DAYLIGHT
BEGIN:STANDARD
TZOFFSETFROM:+0200
TZOFFSETTO:+0100
TZNAME:CET
DTSTART:20261025T010000
END:STANDARD
BEGIN:DAYLIGHT
TZOFFSETFROM:+0100
TZOFFSETTO:+0200
TZNAME:CEST
DTSTART:20270328T010000
END:DAYLIGHT
BEGIN:STANDARD
TZOFFSETFROM:+0200
TZOFFSETTO:+0100
TZNAME:CET
DTSTART:20271031T010000
END:STANDARD
END:VTIMEZONE
BEGIN:VEVENT
DTSTART;VALUE=DATE:20261010
DTEND;VALUE=DATE:20261011
DTSTAMP:20260423T005500
CREATED:20260116T075700Z
LAST-MODIFIED:20260116T075755Z
UID:1954-1791590400-1791676799@caimalnate.it
SUMMARY:Gita Sociale Brunate Montepiatto Torno lungo la Strada Regia
DESCRIPTION:L’idea è di andare a Brunate con la funicolare\,  però si può fare anche a piedi aggiungendo 500m di dislivello. \nPer salire a piedi : percorrere un tratto del Lungo Lario Trieste in direzione della funicolare\, prendere a destra la via Dionigi Da Parravicino \, poi a sinistra su via Via Coloniola e dopo pochi metri prendere la prima a destra che inizia a salire verso Brunate ( dovrebbero esserci cartelli indicatori )\, raggiunta Via Prudenziana si va a sinistra per un 250m e quindi si imbocca a destra  la stradina Salita Carescione che ci porterà sino in via Roma 1 a Brunate  ( Bar per cappuccino e brioche e veranda con vista lago \, apre dopo le 9) . \nFino a qui\, nel 2017\, abbiamo fatto i 515m di salita impiegando 1h 20′. \nSe invece si prende la funicolare \, una volta arrivati al capolinea di Brunate\, bisogna usare l’uscita in basso che porta direttamente in via Roma 1 e quindi siamo allo stesso bar che si trova salendo a piedi. \nDa qui si vedono già i cartelli indicatori della Strada Regia\, si percorre un tratto di via Roma ( un 150m ) per prendere poi in discesa  la via Nidrino \, la si segue fino al campo spotivo costeggiando il quale si arriva ad un piccolo parcheggio (fine della strada )  e all’imbocco del vero e proprio sentiero “Strada Regia”  ( pannello descrittivo )  \, coordinate satellitari   N45° 49.452′   E9° 05.610′. \nCon lievi saliscendi  si passa sopra l’abitato di Blevio per raggiungere Monte Piatto\, qui si fa una puntata alla chiesetta con vista panoramica sul lago di Como ed alla pietra pendula \, meglio farlo prima di pranzo al sacco sulle panchine della chiesa o meglio al Crotto Piazzaga  oppure  Crotto Montepiatto. \nDa Brunate circa 2h 15′\, compreso il ritorno al Crotto dopo  la sosta alla chiesa e la puntatina  alla pietra pendula.\nSi prosegue per  Piazzaga dove inizia la discesa verso Torno  ed a circa metà discesa si fa una deviazione a destra per visitare gli avelli\, massi erratici in cui sono scavate delle nicchie\, antiche sepoture di difficile datazione ( potrebbero essere del III / IV secolo d.c.) . A Torno arriviamo dopo un paio d’ore e  si prende il battello per il rientro a Como. \nIl percorso fatto da Brunate in poi si sviluppa sul versante N-NW in zone boscate pertanto non ci sono problemi di surriscaldamento nemmeno nei mesi più soleggiati\, se fatto ad ottobre si possono raccogliere le castagne che in vari punti sono proprio sul sentiero. \nIscrizioni: mercoledì sera presso la sede\nAssicurazione: per i non soci è obbligatoria un’ assicurazione giornliera da pagare in sede all’ atto dell ‘iscrizione.\nRitrovo: ore 8  presso piazzale FNM di Malnate partenza ore 8.10\nTrasporto : auto privata fino a Como \, funicolare (se non si vuol salire a piedi da Como a Brunate ) e battello per rientro da Torno a Como.  A Como il parcheggio all’autosilo presso l’università ( 1\,5 Km dalla funicolare ) la domenca costa solo 1€ per stare tutto il giorno; negli altri parcheggi e autosilos altrimenti sarebbero 2€ l’ora ! \nCoi mezzi pubblici ( orari validi al 10 gennaio e pertanto da controllare per il giorno della gita )  :    autobus dalla stazione FNM di Malnate alle  7.10  e per il ritorno ci sono corse alle   16.00  – 17.00 – 17.30 – 18.20 – 19.10 poi basta. \nLa funicolare è a 180m dalla stazione FNM Como Lago  e le corse sono ogni 15′ . Bisogna considerare quella delle 9.30 come ultima corsa utile  per poter arrivare a Piazzaga  per pranzo. \nLe stesse considerazioni sugli orari di salita con Funicolare valgono per chi volesse parcheggiare a Como ( tenete conto del tempo\, pedibus calcantibus\, dall’autosilo dell’ università un 20’ buoni ). \nInfo Crotto Piazzaga  \nnecessario prenotare nei fine setimana.\nper curiosare  si può consultare il sito web https://www.crottopiazzaga.it/\no su FB  https://www.facebook.com/crotto.piazzaga/\ntelefono e  whatsapp :       +39 320 618 5488\ninfo@crottopiazzaga.it \nInfo Crotto Montepiatto  \nper curiosare  si può consultare il sito web  www.crottomontepiatto.it.\nNecessario prenotare nei fine settimana. \n\nTel : +39 031 419446\nMail: info@crottomontepiatto.it\n\nLocandina dell’escursione\nTracciato GPX\n \n 
URL:https://caimalnate.it/evento/gita-sociale-brunate-montepiatto-torno-lungo-la-strada-regia/
CATEGORIES:Escursioni
ATTACH;FMTTYPE=image/jpeg:https://caimalnate.it/wp-content/uploads/2026/01/brunate-vista-di-Como-ottobre-2022.jpg
ORGANIZER;CN="CAI Sezione di Malnate":MAILTO:info@caimalnate.it
END:VEVENT
BEGIN:VEVENT
DTSTART;VALUE=DATE:20261108
DTEND;VALUE=DATE:20261109
DTSTAMP:20260423T005500
CREATED:20260126T161945Z
LAST-MODIFIED:20260130T152411Z
UID:2002-1794096000-1794182399@caimalnate.it
SUMMARY:Gita Sociale al forte di Orino da Cerro
DESCRIPTION:A fine ottobre e inizio novembre  l’anello attorno al Monte Morto consente di godere i colori dell’autunno senza aggiungere fatica e dislivello. Son boschi di latifoglie dai colori dorati che vengono esaltati e risaltano ancora di più con la luce radente del pomeriggio  che si insinua tra i rami. \nDifficoltà: E\nPartenza: Cerro\, 458 m. slm\nMeta: Forte di Orino  1139 m. slm\nDislivello: circa 750  m.\nQuota max.: 1139 m. slm\nSviluppo: totali A/R 15 Km. ( partendo dal parcheggio di Cerro )\nvestiario: Scarpe  da trekking e vestiario adatto alla stagione ed alle previsioni meteo.\nPranzo: al sacco\nCani: sono ammessi. \nIscrizioni: mercoledì sera in sede\nAssicurazione:  per i non soci è prevista un’ assicurazione giornaliera da pagare in sede all’atto della iscrizione\ntrasporto: auto privata o treno \nAlcune relazioni su internet: \n\nhttps://www.cailuino.it/itinerari/1796-escursione-cerro-forte-di-orino-nel-parco-regionale-del-campo-dei-fiori\nhttps://www.viaggiaconalice.it/index.php?option=com_content&view=article&id=236&catid=28\nhttps://it.wikiloc.com/percorsi-escursionismo/cerro-forte-di-orino-50038379\n\nEscursione nei boschi da Cerro   al forte di Orino\, appunti del 2022. \nNel primo tratto ci avviamo per raggiungere  il sentiero delle sculture seguendo  il segnavia 317  in commune  per un buon tratto col 310 poi\,  dove si dividono\, seguiamo il 317 e quando raggiunge il 313 che sale da Gavirate svoltiamo a sinistra \, il sentiero si fa un po’ più ripido ma siamo quasi arrivati ed in breve si arriva al forte passando per una zona boschiva devastata (v. foto ) da maltempo/siccità o da malattie che hanno fatto morire buona parte della vegetazione d’alto fusto\, in prevalenza conifere nella parte alta.  Circa 1 Km. prima dell’incrocio col sentiero 313 abbiamo ignorato il bivio col 302 che sale  in modo più diretto al forte. \nPer il ritorno scendiamo lungo il sentiero 313 in alcuni punti ancora con alberi abbattuti che dobbiamo  aggirare \, scendiammo sino a quota 610 circa dove incontriamo un sentiero che imbocchiamo svoltando a dx ( a sx porta alla sorgente di Caddè ) e proseguiamo sempre su questa traccia ( sulla cartina indicata come “M11 discesa dal monte Morto”  ma non ricordo targhe con questa sigla )  e dopo circa 1 Km\,  camminando senza un vero e proprio sentiero\,  aggiriamo il Monte Morto ( che rimane alla nostra sx ) e facciamo una specie di conversione a U percorrendo un sentiero  che ci porta a raggiungere il 310A che  imbocchiamo svoltando a dx in direzione “Sass Gross” ; dopo il sasso continuiamo in direzione Cerro che ragiungiamo dopo aver ritrovato il sentiero 317 percorso in salita. \nLocandina dell’escursione\nTracciato GPX\nCartina con traccia gps\, i due tratti color ciano servono nel caso si utilizzi il treno.
URL:https://caimalnate.it/evento/gits-sociale-al-forte-di-orino-da-cerro/
CATEGORIES:Escursioni
ATTACH;FMTTYPE=image/jpeg:https://caimalnate.it/wp-content/uploads/2026/01/Forte_di_Orino_da_Cerro-2-scaled.jpg
ORGANIZER;CN="CAI Sezione di Malnate":MAILTO:info@caimalnate.it
END:VEVENT
END:VCALENDAR