BEGIN:VCALENDAR
VERSION:2.0
PRODID:-//CAI Malnate - ECPv6.15.19//NONSGML v1.0//EN
CALSCALE:GREGORIAN
METHOD:PUBLISH
X-WR-CALNAME:CAI Malnate
X-ORIGINAL-URL:https://caimalnate.it
X-WR-CALDESC:Eventi per CAI Malnate
REFRESH-INTERVAL;VALUE=DURATION:PT1H
X-Robots-Tag:noindex
X-PUBLISHED-TTL:PT1H
BEGIN:VTIMEZONE
TZID:Europe/Paris
BEGIN:DAYLIGHT
TZOFFSETFROM:+0100
TZOFFSETTO:+0200
TZNAME:CEST
DTSTART:20250330T010000
END:DAYLIGHT
BEGIN:STANDARD
TZOFFSETFROM:+0200
TZOFFSETTO:+0100
TZNAME:CET
DTSTART:20251026T010000
END:STANDARD
BEGIN:DAYLIGHT
TZOFFSETFROM:+0100
TZOFFSETTO:+0200
TZNAME:CEST
DTSTART:20260329T010000
END:DAYLIGHT
BEGIN:STANDARD
TZOFFSETFROM:+0200
TZOFFSETTO:+0100
TZNAME:CET
DTSTART:20261025T010000
END:STANDARD
BEGIN:DAYLIGHT
TZOFFSETFROM:+0100
TZOFFSETTO:+0200
TZNAME:CEST
DTSTART:20270328T010000
END:DAYLIGHT
BEGIN:STANDARD
TZOFFSETFROM:+0200
TZOFFSETTO:+0100
TZNAME:CET
DTSTART:20271031T010000
END:STANDARD
END:VTIMEZONE
BEGIN:VEVENT
DTSTART;VALUE=DATE:20260118
DTEND;VALUE=DATE:20260119
DTSTAMP:20260422T152417
CREATED:20260107T111614Z
LAST-MODIFIED:20260113T074717Z
UID:1857-1768694400-1768780799@caimalnate.it
SUMMARY:Capanna Garzonera
DESCRIPTION:Indicazioni ricevute dalla Capanna Garzonera per la ciaspolata: \na Nante si può arrivare comodamente sia in macchina che in bus uscendo dall’autostrada ad Airolo. \n\nDa Nante fino in Garzonera può seguire il sentiero estivo che dopo il paese va verso Segna (strada sterrata)/ Alpe nuova/ calcascia/ Pian Taioi (Sentiero).\nDa Pian Taioi\, se c’è pericolo é meglio andare a prendere il sentiero che sale nel bosco a sinistra\, altrimenti si può seguire la strada sterrata che sale verso destra prima del ponte.\n\nSe scarica l’app di Swisstopo ha tutte le cartine gratuite e sull’app White risk ha il bollettino valanghe.\nCordiali saluti e buona gita.\nKatrin Vavassori \nDescrizione della ciaspolata da Nante: \n\nhttps://gioiaadaltaquota.ch/2020/12/27/bellissima-racchetta-in-leventina-la-capanna-garzonera/\n\nInfo rifugio: \n\nhttps://www.capanneti.ch/it/capanne/garzonera\nhttps://www.ticino.ch/it/alpineHuts/details/Rifugio-Garzonera/13382.html\n\nfornisce anche questo prospetto dei punti di partenza ( per l’inverno dà partenza da Nante ) \nAltre pagine utili \n\nhttps://www.montagneticinesi.ch/trekking/capanna_garzonera/?lang=it\nhttps://www.komoot.com/it-it/highlight/3849913\n\nLocandina Gita Capanna Garzonera\nMappa Capanna Garzonera Invernale\nTracciato GPX\n  \n \n 
URL:https://caimalnate.it/evento/capanna-garzonera/
CATEGORIES:Escursioni
ATTACH;FMTTYPE=image/webp:https://caimalnate.it/wp-content/uploads/2026/01/img_0877.webp
ORGANIZER;CN="CAI Sezione di Malnate":MAILTO:info@caimalnate.it
END:VEVENT
END:VCALENDAR