BEGIN:VCALENDAR
VERSION:2.0
PRODID:-//CAI Malnate - ECPv6.15.19//NONSGML v1.0//EN
CALSCALE:GREGORIAN
METHOD:PUBLISH
X-WR-CALNAME:CAI Malnate
X-ORIGINAL-URL:https://caimalnate.it
X-WR-CALDESC:Eventi per CAI Malnate
REFRESH-INTERVAL;VALUE=DURATION:PT1H
X-Robots-Tag:noindex
X-PUBLISHED-TTL:PT1H
BEGIN:VTIMEZONE
TZID:Europe/Paris
BEGIN:DAYLIGHT
TZOFFSETFROM:+0100
TZOFFSETTO:+0200
TZNAME:CEST
DTSTART:20250330T010000
END:DAYLIGHT
BEGIN:STANDARD
TZOFFSETFROM:+0200
TZOFFSETTO:+0100
TZNAME:CET
DTSTART:20251026T010000
END:STANDARD
BEGIN:DAYLIGHT
TZOFFSETFROM:+0100
TZOFFSETTO:+0200
TZNAME:CEST
DTSTART:20260329T010000
END:DAYLIGHT
BEGIN:STANDARD
TZOFFSETFROM:+0200
TZOFFSETTO:+0100
TZNAME:CET
DTSTART:20261025T010000
END:STANDARD
BEGIN:DAYLIGHT
TZOFFSETFROM:+0100
TZOFFSETTO:+0200
TZNAME:CEST
DTSTART:20270328T010000
END:DAYLIGHT
BEGIN:STANDARD
TZOFFSETFROM:+0200
TZOFFSETTO:+0100
TZNAME:CET
DTSTART:20271031T010000
END:STANDARD
END:VTIMEZONE
BEGIN:VEVENT
DTSTART;VALUE=DATE:20260208
DTEND;VALUE=DATE:20260209
DTSTAMP:20260422T130634
CREATED:20260115T163651Z
LAST-MODIFIED:20260115T164107Z
UID:1945-1770508800-1770595199@caimalnate.it
SUMMARY:Gita sociale Zwölfihorn (Val Schons canton Grigioni - CH)
DESCRIPTION:Difficoltà: EE per gli ultimi 100m. di dislivello \, per il resto E ma ben allenati\nPartenza: Lohn  – 1600 m. slm  in canton Grigioni\, Val Schons\nMeta: Zwölfihorn 2292 m. slm\nDislivello: circa 900  m.\nQuota max: 2292 m. \nSviluppo: totali 9.5 Km.\nvestiario: “a cipolla” adatto alla stagione ed alla quota\, compresi guanti e berretto caldi\, ghette\nAttrezzatura: scarponi adatti a marciare nella neve\, bastoncini\, ciaspole\, kit ARTVA \nLa traccia blu ad anello ci porta a toccare diverse punte panoramiche  con uno sviluppo di circa 9.5 Km. \n  \nRelazione  presa da: https://www.hikr.org/tour/post170280.html \nSu Hikr trovate anche la traccia gpx per il navigatore e diverse foto. \nDal parcheggio di Lohn bisogna dirigersi verso il centro del paese\, dove a sinistra si apre una strada che porta ai soprastanti prati innevati (non seguire la mia traccia iniziale\, ma invece la traccia del ritorno).\nNon ci sono indicazioni lungo il percorso\, ma risulta una zona molto battuta.\nIl percorso\, una volta superata una grande staccionata\, si dirige verso destra\, sempre salendo. Si lascia sulla sinistra un grande edificio per portarsi verso il gruppo di baite di Summapunt.\nQui si continua a salire sul limite dello strapiombo\, superatolo si comincia a vedere davanti il Scherakopf\, è la piccola vetta più alta sulla destra.\nUna volta raggiunta\, ci si porta verso il Zwölfihorn. La direzione da seguire è praticamente  tutto il limite dello strapiombo\, verso il Piz Beverin\, passando per tutte le cimette intermedie. \nUna volta giunti in vetta al Zwölfihorn (la vetta vera è la cima più alta\, quella appena dopo il cippo di sassi)\, si comincia a scendere compiendo un ampio semicerchio\, portandosi idealmente così all’inizio del percorso\, fino ad arrivare alla staccionata dell’andata e da qui a Lohn. \nAltra relazione: https://www.ariafina.ch/zwolfihorn/ \nTraccia GPX\nLocandina dell’esursione
URL:https://caimalnate.it/evento/gita-sociale-zwolfihorn-val-schons-canton-grigioni-ch/
CATEGORIES:Escursioni
ATTACH;FMTTYPE=image/jpeg:https://caimalnate.it/wp-content/uploads/2026/01/3526486l.jpg
ORGANIZER;CN="CAI Sezione di Malnate":MAILTO:info@caimalnate.it
END:VEVENT
END:VCALENDAR