BEGIN:VCALENDAR
VERSION:2.0
PRODID:-//CAI Malnate - ECPv6.15.19//NONSGML v1.0//EN
CALSCALE:GREGORIAN
METHOD:PUBLISH
X-WR-CALNAME:CAI Malnate
X-ORIGINAL-URL:https://caimalnate.it
X-WR-CALDESC:Eventi per CAI Malnate
REFRESH-INTERVAL;VALUE=DURATION:PT1H
X-Robots-Tag:noindex
X-PUBLISHED-TTL:PT1H
BEGIN:VTIMEZONE
TZID:Europe/Paris
BEGIN:DAYLIGHT
TZOFFSETFROM:+0100
TZOFFSETTO:+0200
TZNAME:CEST
DTSTART:20250330T010000
END:DAYLIGHT
BEGIN:STANDARD
TZOFFSETFROM:+0200
TZOFFSETTO:+0100
TZNAME:CET
DTSTART:20251026T010000
END:STANDARD
BEGIN:DAYLIGHT
TZOFFSETFROM:+0100
TZOFFSETTO:+0200
TZNAME:CEST
DTSTART:20260329T010000
END:DAYLIGHT
BEGIN:STANDARD
TZOFFSETFROM:+0200
TZOFFSETTO:+0100
TZNAME:CET
DTSTART:20261025T010000
END:STANDARD
BEGIN:DAYLIGHT
TZOFFSETFROM:+0100
TZOFFSETTO:+0200
TZNAME:CEST
DTSTART:20270328T010000
END:DAYLIGHT
BEGIN:STANDARD
TZOFFSETFROM:+0200
TZOFFSETTO:+0100
TZNAME:CET
DTSTART:20271031T010000
END:STANDARD
END:VTIMEZONE
BEGIN:VEVENT
DTSTART;VALUE=DATE:20260222
DTEND;VALUE=DATE:20260223
DTSTAMP:20260422T130717
CREATED:20260218T131635Z
LAST-MODIFIED:20260218T131734Z
UID:2054-1771718400-1771804799@caimalnate.it
SUMMARY:Gita riservata gli iscritti - Bolettone partendo dall'Eremo San Salvatore di Erba
DESCRIPTION:Modalità iscrizione: Iscrizione in sede fornendo nominativo e tessera Cai Mercoledì 18-02 ore 21:00\nAndremo al Bolettone da Crevenna e che partiremo dal parcheggio della stazione di Malnate (lato sede CAI) alle ore 7 \nItinerario della Gita\nChi non è iscritto CAI deve tassativamente recarsi in sede stasera mercoledì per iscriversi o per pagare la quota assicurativa per la singola uscita.\nChi è già iscritto al CAI deve solo comunicare l’intenzione di partecipare all’uscita sezionale attraverso la chat W.A. delle gite cui si può iscrivere andando sul sito del CAI Malnate alla voce attività/escursioni.\nLì verranno dati tutti gli eventuali aggiornamenti sulla gita e si formerà la lista dei partecipanti
URL:https://caimalnate.it/evento/gita-riservata-gli-iscritti-bolettone-partendo-dalleremo-san-salvatore-di-erba/
CATEGORIES:Escursioni
ORGANIZER;CN="CAI Sezione di Malnate":MAILTO:info@caimalnate.it
END:VEVENT
END:VCALENDAR